BEGIN:VCALENDAR
VERSION:2.0
PRODID:-//Center for Personal Evolution - ECPv5.10.0//NONSGML v1.0//EN
CALSCALE:GREGORIAN
METHOD:PUBLISH
X-WR-CALNAME:Center for Personal Evolution
X-ORIGINAL-URL:https://centerforpersonalevolution.com
X-WR-CALDESC:Events for Center for Personal Evolution
BEGIN:VTIMEZONE
TZID:America/New_York
BEGIN:DAYLIGHT
TZOFFSETFROM:-0500
TZOFFSETTO:-0400
TZNAME:EDT
DTSTART:20210314T070000
END:DAYLIGHT
BEGIN:STANDARD
TZOFFSETFROM:-0400
TZOFFSETTO:-0500
TZNAME:EST
DTSTART:20211107T060000
END:STANDARD
END:VTIMEZONE
BEGIN:VEVENT
DTSTART;TZID=America/New_York:20210217T093000
DTEND;TZID=America/New_York:20210217T113000
DTSTAMP:20260424T162740
CREATED:20210203T202234Z
LAST-MODIFIED:20210203T202234Z
UID:2890-1613554200-1613561400@centerforpersonalevolution.com
SUMMARY:Your Mythic Journey with Gwendolyn C. Natusch\, M.Ed.\, MSW
DESCRIPTION: Your Mythic Journey \nWednesdays February 17th\, 2021 \n9:30 to 11:30am \nClosed Group
URL:https://centerforpersonalevolution.com/event/your-mythic-journey-with-gwendolyn-c-natusch-m-ed-msw-2/
LOCATION:Online Event on Zoom
ORGANIZER;CN="Gwendolyn%20C.%20Natusch":MAILTO:centerforpersonalevolution@gmail.com
END:VEVENT
END:VCALENDAR