BEGIN:VCALENDAR
VERSION:2.0
PRODID:-//Center for Personal Evolution - ECPv5.10.0//NONSGML v1.0//EN
CALSCALE:GREGORIAN
METHOD:PUBLISH
X-WR-CALNAME:Center for Personal Evolution
X-ORIGINAL-URL:https://centerforpersonalevolution.com
X-WR-CALDESC:Events for Center for Personal Evolution
BEGIN:VTIMEZONE
TZID:America/New_York
BEGIN:DAYLIGHT
TZOFFSETFROM:-0500
TZOFFSETTO:-0400
TZNAME:EDT
DTSTART:20210314T070000
END:DAYLIGHT
BEGIN:STANDARD
TZOFFSETFROM:-0400
TZOFFSETTO:-0500
TZNAME:EST
DTSTART:20211107T060000
END:STANDARD
END:VTIMEZONE
BEGIN:VEVENT
DTSTART;TZID=America/New_York:20210505T093000
DTEND;TZID=America/New_York:20210505T113000
DTSTAMP:20260424T150112
CREATED:20210504T223048Z
LAST-MODIFIED:20210504T235942Z
UID:3034-1620207000-1620214200@centerforpersonalevolution.com
SUMMARY:Your Mythic Journey - (Closed Group)  
DESCRIPTION:Your Mythic Journey – (Closed Group) \nWednesday May 5th\, 2021  9:30am to 11:30am
URL:https://centerforpersonalevolution.com/event/your-mythic-journey-closed-group/
LOCATION:Center for Personal Evolution\, 1213 Laskin Road Suite #104\, Virginia Beach\, VA\, 23451\, United States
END:VEVENT
END:VCALENDAR