BEGIN:VCALENDAR
VERSION:2.0
PRODID:-//Center for Personal Evolution - ECPv5.10.0//NONSGML v1.0//EN
CALSCALE:GREGORIAN
METHOD:PUBLISH
X-WR-CALNAME:Center for Personal Evolution
X-ORIGINAL-URL:https://centerforpersonalevolution.com
X-WR-CALDESC:Events for Center for Personal Evolution
BEGIN:VTIMEZONE
TZID:America/New_York
BEGIN:DAYLIGHT
TZOFFSETFROM:-0500
TZOFFSETTO:-0400
TZNAME:EDT
DTSTART:20200308T070000
END:DAYLIGHT
BEGIN:STANDARD
TZOFFSETFROM:-0400
TZOFFSETTO:-0500
TZNAME:EST
DTSTART:20201101T060000
END:STANDARD
END:VTIMEZONE
BEGIN:VEVENT
DTSTART;TZID=America/New_York:20201221T190000
DTEND;TZID=America/New_York:20201221T210000
DTSTAMP:20260424T192509
CREATED:20201216T223219Z
LAST-MODIFIED:20201216T223219Z
UID:2838-1608577200-1608584400@centerforpersonalevolution.com
SUMMARY:Winter Solstice Ceremony with Gwendolyn C. Natusch\, M.Ed.\, MSW
DESCRIPTION:Winter Solstice Ceremony \nWhat does winter solstice mean?\nThe winter solstice is the moment in the year when Earth is tilted as far away from the sun as it will be all year\, which results in the shortest day of the year. The shortest day brings the longest period of darkness. This darkness invites us to look within.\nThe winter solstice means more than just a few cold\, dark months ahead that can feel like forever before spring arrives! The winter solstice is also a time that holds spiritual significance. \nThis Winter Solstice means so much more. \nThe winter solstice is a sacred time infused with magic and light in which the universe sheds light what is completed in our lives\, what is ready to be let go of and that which rekindles hope\, dreams and passions in our lives. It is a time to welcome in a new cycle that will invite us inward to reflect\, contemplate and imagine new possibilities and potentials within us. It is a time of dreaming and creating these inspirations in us to plant in the light of the Spring Equinox. In the winter equinox a season of holding these possibilities within in us becomes our own sort of personal alchemy. These rich months of inner focus has the potential to bring beautiful experiences for the whole year ahead! \nHere’s What Our Evening Will Look Like: \nIn this gathering you will be invited to reflect\, contemplate\, release that which no longer serves you and formulate your intentions and dreams for the new year. \nIn this Zoom gathering we will talk about the Winter Solstice and participate in ceremony. \nEach participant will have an opportunity to reflect back on their year and gather the beauty from the year gone by. \nYou will also be invited to look at and take stock of everything that you would like to let go of that no longer serves you. \nFinally\, you will be invited to list and call in your hopes\, dreams and desires for the year ahead\, 2021. \nWe will have fire ceremony\, each in our individual spaces\, and call in the assistance of the transformative element of fire to assist us in our intentions for this Winter Solstice Ceremony. \nWhat you will need:\n-A fire proof container\n-matches\n-pen\n-paper \nA Free Event Online! \nCome and join us in this Winter Solstice Ceremony and Purpose! \nZoom Information: \nZoom URL:\nhttps://zoom.us/j/96057049453pwd=b3FaTEtVbmRqczlMTlU0YnNhY0Q3Zz09 \nZoom Meeting ID: 960 5704 9453 \nZoom Password: 376683 \n  \nHosted by The Center for Personal Evolution at www.centerforpersonalevolution.com \nFor more information please text or email Gwendolyn Natusch at 508-560-6891
URL:https://centerforpersonalevolution.com/event/winter-solstice-ceremony-with-gwendolyn-c-natusch-m-ed-msw/
LOCATION:Online Event on Zoom
ORGANIZER;CN="Gwendolyn%20C.%20Natusch":MAILTO:centerforpersonalevolution@gmail.com
END:VEVENT
END:VCALENDAR