BEGIN:VCALENDAR
VERSION:2.0
PRODID:-//Center for Personal Evolution - ECPv5.10.0//NONSGML v1.0//EN
CALSCALE:GREGORIAN
METHOD:PUBLISH
X-WR-CALNAME:Center for Personal Evolution
X-ORIGINAL-URL:https://centerforpersonalevolution.com
X-WR-CALDESC:Events for Center for Personal Evolution
BEGIN:VTIMEZONE
TZID:America/New_York
BEGIN:DAYLIGHT
TZOFFSETFROM:-0500
TZOFFSETTO:-0400
TZNAME:EDT
DTSTART:20160313T070000
END:DAYLIGHT
BEGIN:STANDARD
TZOFFSETFROM:-0400
TZOFFSETTO:-0500
TZNAME:EST
DTSTART:20161106T060000
END:STANDARD
END:VTIMEZONE
BEGIN:VEVENT
DTSTART;TZID=America/New_York:20160409T103000
DTEND;TZID=America/New_York:20160409T130000
DTSTAMP:20260425T223537
CREATED:20160315T113553Z
LAST-MODIFIED:20160315T113553Z
UID:1521-1460197800-1460206800@centerforpersonalevolution.com
SUMMARY:The Healers' Gathering
DESCRIPTION:The Healers’ Gathering\nFacilitated by Gwendolyn C. Natusch\nClass Offering will be the following:\n1. Chakra Balancing and Grounding Meditation\n2. The Art of Reading Energy \nWhen: Saturday April 9\, 2016\nTime: 1:00 to 3:00pm\nWhere: Birdneck Executive Center 1206 Laskin Road Room #115 Virginia Beach\, VA 23451\nCost: $5.00\nSign-up: On meetup on Soul Evolution Meetup\nor via email at centerforpersonalevolution@gmail.com or by phone 508-560-6891 \nLearn the Art of Energy Tracking\n(aka Wall Tracking) \nThe purpose and use for Wall Tracking is to utilize your inner visioning with the aid of your intuition to obtain a brief overall assessment of their energy centers and to track spiritual growth and healing within a person. This tool can be used as an assessment tool and recorded over time gives a tracking of the person’s journey energetically. It also serves as a wonderful tool to practice and strengthen you inner visioning skills. \nThis is really a fun workshop! It will amaze you to see how all of us are intuitive and this activity shows this so very clearly! Come and join us and join the fun! \nIn wall tracking you will track… \nFirst Chakra Energy where you will see the individual’s life force or life energy \nSecond Charka Energy where you will see the individual’s emotional energy \nThird & Fourth Chakras Energy where you will see the individual’s mythic energy where their inner soul stories reside as well as the soul self and information on their personal hero’s journey \nFifth\, Sixth & Seventh Chakras Energy where you will find all archetypal beings here in this level which is an energetic level. \nCome and learn this skill and also get an energy reading from the class if you would like to! \nThis meetup is sponsored by:\nThe Center for Personal Evolution www.centerforpersonalevolution.com
URL:https://centerforpersonalevolution.com/event/the-healers-gathering-2/
LOCATION:Birdneck Executive Centre\, 1206 Laskin Road Suite #115\, Virginia Beach\, 23451\, United States
ORGANIZER;CN="Gwendolyn%20C.%20Natusch":MAILTO:centerforpersonalevolution@gmail.com
END:VEVENT
END:VCALENDAR