BEGIN:VCALENDAR
VERSION:2.0
PRODID:-//Center for Personal Evolution - ECPv5.10.0//NONSGML v1.0//EN
CALSCALE:GREGORIAN
METHOD:PUBLISH
X-WR-CALNAME:Center for Personal Evolution
X-ORIGINAL-URL:https://centerforpersonalevolution.com
X-WR-CALDESC:Events for Center for Personal Evolution
BEGIN:VTIMEZONE
TZID:America/New_York
BEGIN:DAYLIGHT
TZOFFSETFROM:-0500
TZOFFSETTO:-0400
TZNAME:EDT
DTSTART:20220313T070000
END:DAYLIGHT
BEGIN:STANDARD
TZOFFSETFROM:-0400
TZOFFSETTO:-0500
TZNAME:EST
DTSTART:20221106T060000
END:STANDARD
END:VTIMEZONE
BEGIN:VEVENT
DTSTART;TZID=America/New_York:20220319T130000
DTEND;TZID=America/New_York:20220319T150000
DTSTAMP:20260423T110200
CREATED:20220314T193000Z
LAST-MODIFIED:20220314T193003Z
UID:3217-1647694800-1647702000@centerforpersonalevolution.com
SUMMARY:Tea Time\, Intuition & Tea Leaf Reading with Intuitive Gwendolyn C. Natusch\, M.Ed.\, MSW
DESCRIPTION:Tea Time\, Intuition & Tea Leaf Reading                                                                                         \nwith Intuitive Gwendolyn C. Natusch\, M.Ed.\, MSW \nLearn this turn of the century traditional art of divination!                                                            \nSaturday March 19\, 2022  \n1:00 PM to 3:00PM  \n(Eastern Standard Time) \nA Live Zoom Event! \nIn this interactive Tea Leaf Reading workshop participants will learn to build and apply their intuitive skills and read the tea leaves for themselves and others! This is an experiential class and each participant is guaranteed to walk away with new knowledge and a new skill that they can apply right away through tea leaf reading! It is a lot of fun!! \nSupplies: \nWhat you will need to bring to our Zoom Workshop gathering: \n-A cup of hot tea with the tea bag still in the cup \n-Access to the Packet on Tea Leaf Reading provided by Gwendolyn which will be sent to you via email once you sign up for this workshop \n-Paper and Pen \n-Cookies\, sweets or cake if you like\, to enjoy as you sip your tea! \nHow to Sign Up: \nSimply pay for the class via PayPal and this is your pass into the class. \nCost: $25.00 \nPayment: Please pay via PayPal before class begins. Send payment to PayPal email centerforpersonalevolution@gmail.com Thank you. \nTo Sign Up: Simply make your payment via PayPal and join us. Feel free to Email\, text or phone 508-560-6891 centerforpersonalevolution@gmail.com to let Gwendolyn know you will be present. \nMore Information on the Workshop: Contact Gwendolyn via text\, phone or email at 508-560-6891 centerforpersonalevolution@gmail.com \nwww.centerforpersonalevolution.com \nLocation: The workshop will take place online over Zoom and can be accessed through the following details below: \nZoom Meeting Room and Event Topic: \nTea Time\, Intuition & Tea Leaf Reading w/Gwendolyn C. Natusch\, M.Ed.\, MSW \nTime: Mar 19\, 2022 01:00 PM Eastern Time (US and Canada) 7:00pm to 9:00pm \nJoin Zoom Meeting \nZoom URL Link:          https://us06web.zoom.us/j/86991475570?pwd=SjBrWC9Bbk1mVStPSnduVkNkeGpBQT09 \nMeeting ID: 869 9147 5570 \nPasscode: 886421 \n  \nOne tap mobile \n+19292056099\,\,86991475570#\,\,\,\,*886421# US (New York) \n+13017158592\,\,86991475570#\,\,\,\,*886421# US (Washington DC) \nDial by your location \n+1 929 205 6099 US (New York) \n+1 301 715 8592 US (Washington DC) \n+1 312 626 6799 US (Chicago) \n+1 669 900 6833 US (San Jose) \n+1 253 215 8782 US (Tacoma) \n+1 346 248 7799 US (Houston) \nMeeting ID: 869 9147 5570 \nPasscode: 886421                                                                                                                               Find your local number: https://us06web.zoom.us/u/kHm7TyKng \n  \nThe Center for Personal Evolution  \n& Owl Medicine: A Shamanic Healing Path \nGwendolyn C. Natusch\, M.Ed.\, MSW \nwww.centerforpersonalevolution.com \n508-560-6891 \ncenterforpersonalevolution@gmail.com
URL:https://centerforpersonalevolution.com/event/tea-time-intuition-tea-leaf-reading-with-intuitive-gwendolyn-c-natusch-m-ed-msw/
LOCATION:Online in our Zoom Classroom\, United States
END:VEVENT
END:VCALENDAR