BEGIN:VCALENDAR
VERSION:2.0
PRODID:-//Center for Personal Evolution - ECPv5.10.0//NONSGML v1.0//EN
CALSCALE:GREGORIAN
METHOD:PUBLISH
X-WR-CALNAME:Center for Personal Evolution
X-ORIGINAL-URL:https://centerforpersonalevolution.com
X-WR-CALDESC:Events for Center for Personal Evolution
BEGIN:VTIMEZONE
TZID:America/New_York
BEGIN:DAYLIGHT
TZOFFSETFROM:-0500
TZOFFSETTO:-0400
TZNAME:EDT
DTSTART:20160313T070000
END:DAYLIGHT
BEGIN:STANDARD
TZOFFSETFROM:-0400
TZOFFSETTO:-0500
TZNAME:EST
DTSTART:20161106T060000
END:STANDARD
END:VTIMEZONE
BEGIN:VEVENT
DTSTART;TZID=America/New_York:20160430T130000
DTEND;TZID=America/New_York:20160430T150000
DTSTAMP:20260425T223431
CREATED:20160427T032144Z
LAST-MODIFIED:20160427T032144Z
UID:1523-1462021200-1462028400@centerforpersonalevolution.com
SUMMARY:Tea Time\, Intuition & Cookies!
DESCRIPTION:Tea Time\, Intuition & Cookies!\nCome & join us for an afternoon of intuitive games\, practice and learning while sipping tea and enjoying cookies! \nSaturday April 30\, 2016     1:00pm to 3:00pm \nIn this workshop we will explore the following intuitive topics:\n-Aura Reading\n-Tea Leaves Readings\n-Psychometry \nTea and light food will be provided.\nCome join us and have your tea leaves\, auras & objects read! \nNote: Bring an object to have read! \nLocation: Birdneck Executive Center 1206 Laskin Road (Room #115 on the first floor) Virginia Beach\, VA 23451 \nDate: Saturday April 30\, 2016\nTime: 1:00pm to 3:00pm\nCost: $10.00 \nTo sign up for this workshop please:\nCall: 508-560-6891 or\nEmail: centerforpersonalevolutio@gmail.com\nWebsite: www.centerforpersonalevolution.com \nTea leaf reading or “Tasseography” is a method of divination that combines the tea leaf symbols in the cup along with intuitive information from the reader. When reading the symbols in the cup one uses imagination\, like seeing different shapes in clouds! \nPsychometry is a psychic ability in which a person can sense or “read” the history of an object by touching it. Such a person can receive impressions from an object by holding it in his/her hands or\, perhaps\, touching it to the forehead. \nA person’s aura is said to be a field of energy that they give off. Some people believe that everything has an aura or is surrounded by a field of its own energy that can be captured using Kirlian photography. The ability to see auras is considered a psychic skill.
URL:https://centerforpersonalevolution.com/event/tea-time-intuition-cookies/
LOCATION:Birdneck Executive Centre\, 1206 Laskin Road Suite #115\, Virginia Beach\, 23451\, United States
ATTACH;FMTTYPE=image/jpeg:https://centerforpersonalevolution.com/wp-content/uploads/2015/11/doorway.jpg
ORGANIZER;CN="Gwendolyn%20C.%20Natusch":MAILTO:centerforpersonalevolution@gmail.com
END:VEVENT
END:VCALENDAR