BEGIN:VCALENDAR
VERSION:2.0
PRODID:-//Center for Personal Evolution - ECPv5.10.0//NONSGML v1.0//EN
CALSCALE:GREGORIAN
METHOD:PUBLISH
X-WR-CALNAME:Center for Personal Evolution
X-ORIGINAL-URL:https://centerforpersonalevolution.com
X-WR-CALDESC:Events for Center for Personal Evolution
BEGIN:VTIMEZONE
TZID:America/New_York
BEGIN:DAYLIGHT
TZOFFSETFROM:-0500
TZOFFSETTO:-0400
TZNAME:EDT
DTSTART:20200308T070000
END:DAYLIGHT
BEGIN:STANDARD
TZOFFSETFROM:-0400
TZOFFSETTO:-0500
TZNAME:EST
DTSTART:20201101T060000
END:STANDARD
END:VTIMEZONE
BEGIN:VEVENT
DTSTART;TZID=America/New_York:20200411T190000
DTEND;TZID=America/New_York:20200411T213000
DTSTAMP:20260424T180334
CREATED:20200306T030302Z
LAST-MODIFIED:20200402T213038Z
UID:2793-1586631600-1586640600@centerforpersonalevolution.com
SUMMARY:Energy Clearing and Cleansing for Yourself\, Home & Other Spaces with Gwendolyn C. Natusch\, M.Ed.\, MS
DESCRIPTION:  \nEnergy Clearing and Cleansing\nfor Yourself\, Home & Other Spaces\nwith Gwendolyn C. Natusch\, M.Ed.\, MSW \nA Saturday Workshop on Zoom!\nApril 11th\, 2020\n7:00pm to 9:30pm \nCome and learn how to clear\, cleanse and bless your own energy and the energy of your home\, work space and other spaces! Join us and make your own spiritual cleansing water! \nIn this class each participant will:\n-be given information about spiritual clearing and cleansing.\n-be shown how to clear\, cleanse and bless personal energy and spaces\n-learn how to create and make your own Spiritual Cleansing Spray \nLocation: Zoom Online at https://zoom.us/j/124722775 \nCost: $10.00\nPayment via PayPal at centerforpersonalevolution@gmail.com\n​We also take debit and credit cards over the phone at 508-560-6891 \nHow to join the Zoom Classroom: \n1. If you do not have Zoom on your device please download it by going to the Zoom website at:\nhttps://www.zoom.us/ \n2. Once you have Zoom downloaded simply type or paste in the\nZoom Meeting ID: 124-722-775 \n3. You can also paste or type the direct URL link into your search engine address bar:\nURL Link to our Zoom Classroom: https://zoom.us/j/124722775 \nEnergy Clearing and Cleansing\nfor Yourself\, Home & Other Spaces\nwith Gwendolyn C. Natusch\, M.Ed.\, MSW \nZoom Website Address:\nhttps://www.zoom.us/ \nZoom URL Link:\nhttps://zoom.us/j/124722775 \nFor More information please call\, text or email:\n508-560-6891 centerforpersonalevolution@gmail.com\nThe Center for Personal Evolution\nwww.centerforpersonalevolution.com\n508-560-6891
URL:https://centerforpersonalevolution.com/event/spiritual-cleansing-clearing-how-to-clear-energy-spaces-and-people-with-gwendolyn-c-natusch-m-ed-msw/
LOCATION:Online in our Zoom Classroom\, United States
ORGANIZER;CN="Gwendolyn%20C.%20Natusch":MAILTO:centerforpersonalevolution@gmail.com
END:VEVENT
END:VCALENDAR