BEGIN:VCALENDAR
VERSION:2.0
PRODID:-//Center for Personal Evolution - ECPv5.10.0//NONSGML v1.0//EN
CALSCALE:GREGORIAN
METHOD:PUBLISH
X-WR-CALNAME:Center for Personal Evolution
X-ORIGINAL-URL:https://centerforpersonalevolution.com
X-WR-CALDESC:Events for Center for Personal Evolution
BEGIN:VTIMEZONE
TZID:America/New_York
BEGIN:DAYLIGHT
TZOFFSETFROM:-0500
TZOFFSETTO:-0400
TZNAME:EDT
DTSTART:20200308T070000
END:DAYLIGHT
BEGIN:STANDARD
TZOFFSETFROM:-0400
TZOFFSETTO:-0500
TZNAME:EST
DTSTART:20201101T060000
END:STANDARD
END:VTIMEZONE
BEGIN:VEVENT
DTSTART;TZID=America/New_York:20200320T190000
DTEND;TZID=America/New_York:20200320T213000
DTSTAMP:20260424T214407
CREATED:20200306T025847Z
LAST-MODIFIED:20220201T212215Z
UID:2786-1584730800-1584739800@centerforpersonalevolution.com
SUMMARY:Shamanic Journey Circle Gathering    with Gwendolyn C. Natusch\, M.Ed.\, MSW
DESCRIPTION:Shamanic Journey Circle Gathering   \nwith Gwendolyn C. Natusch\, M.Ed.\, MSW \n  \nMarch 20th\, 2020\nFriday Evening  \n7:00 to 9:00pm \n  \nIn this gathering we will share discussions on shamanism\, learn the foundational concepts of shamanic cosmology and have an experience of journeying to discover your power animal\, connect with your guides\, receive guidance\, healing and revelations!  \n  \nCome and join us and acquire a skill and tool that will deepen  \nyour awareness as well as your spiritual practice! \n  \nThe Shamanic Journey ~ The Gateway to Non-Ordinary Reality \nJourneying is a method for developing a personal connecting to the Divine and a direct communication from the Divine to you! Shamanic journeying is the art of using rhythm and intention to enter an altered state of consciousness in order to connect with the spiritual dimension of reality. With Experiencing the Shamanic Journey\, you are invited to learn this safe\, reliable\, and transformative technique. Once you have mastered this simple process you will have a spiritual tool that will serve you for the rest of your life. \n  \nOpen to the Public! \nCome and join us for journeying in community! \n Time: 7:00 to 9:00pm                                                                                                                                       Where: The Center for Personal Evolution at 606 Pinetree Drive New Bern         \n Cost: $10.00
URL:https://centerforpersonalevolution.com/event/shamanic-journey-circle-gathering-with-gwendolyn-c-natusch-m-ed-msw-16/
LOCATION:606 Pinetree Drive new bern nc
ORGANIZER;CN="Gwendolyn%20C.%20Natusch":MAILTO:centerforpersonalevolution@gmail.com
END:VEVENT
END:VCALENDAR