BEGIN:VCALENDAR
VERSION:2.0
PRODID:-//Center for Personal Evolution - ECPv5.10.0//NONSGML v1.0//EN
CALSCALE:GREGORIAN
METHOD:PUBLISH
X-WR-CALNAME:Center for Personal Evolution
X-ORIGINAL-URL:https://centerforpersonalevolution.com
X-WR-CALDESC:Events for Center for Personal Evolution
BEGIN:VTIMEZONE
TZID:America/New_York
BEGIN:DAYLIGHT
TZOFFSETFROM:-0500
TZOFFSETTO:-0400
TZNAME:EDT
DTSTART:20200308T070000
END:DAYLIGHT
BEGIN:STANDARD
TZOFFSETFROM:-0400
TZOFFSETTO:-0500
TZNAME:EST
DTSTART:20201101T060000
END:STANDARD
END:VTIMEZONE
BEGIN:VEVENT
DTSTART;TZID=America/New_York:20200131T190000
DTEND;TZID=America/New_York:20200131T210000
DTSTAMP:20260424T151744
CREATED:20191230T023349Z
LAST-MODIFIED:20191230T023349Z
UID:2749-1580497200-1580504400@centerforpersonalevolution.com
SUMMARY:  Shamanic Journey Circle Gathering   with Gwendolyn C. Natusch\, M.Ed.\, MSW
DESCRIPTION:  Shamanic Journey Circle Gathering \n with Gwendolyn C. Natusch\, M.Ed.\, MSW \nJanuary 31st\, 2020\nFriday Evening 7:00 to 9:00pm \nWe will meet at The Center for Personal Evolution located at 606 Pinetree Drive in New Bern\, NC \nJoin us in circle where we talk about shamanism\, journeying and enjoy being in a community of spiritual seekers and like minded individuals. In the journey circle one is offered the opportunity to connect with a deeper part of themselves and to discover the path to communing with your guides\, power animals and Divine Assistance and Wisdom. Come and learn this ancient technique of journeying and discover how this can deepen your life\, experience and inner harmony! \nThe Shamanic Journey ~ The Gateway to Non-Ordinary Reality \nJourneying is a method for developing a personal connecting to the Divine and a direct communication from the Divine to you! Shamanic journeying is the art of using rhythm and intention to enter an altered state of consciousness in order to connect with the spiritual dimension of reality. With Experiencing the Shamanic Journey\, you are invited to learn this safe\, reliable\, and transformative technique. Once you have mastered this simple process you will have a spiritual tool that will serve you for the rest of your life. \nOpen to the Public! \nCome and join us for journeying in community! \nWhere: Center for Personal Evolution 606 Pinetree Drive New Bern    \nCost: $10.00 \nCall/text 508-560-6891 or email centerforpersonalevolution@gmail.com to schedule your appointment! Visit the Center for Personal Evolution’s Website! www.centerforpersonalevolution.com
URL:https://centerforpersonalevolution.com/event/shamanic-journey-circle-gathering-with-gwendolyn-c-natusch-m-ed-msw-13/
LOCATION:606 Pinetree Drive new bern nc
ORGANIZER;CN="Gwendolyn%20C.%20Natusch":MAILTO:centerforpersonalevolution@gmail.com
END:VEVENT
END:VCALENDAR