BEGIN:VCALENDAR
VERSION:2.0
PRODID:-//Center for Personal Evolution - ECPv5.10.0//NONSGML v1.0//EN
CALSCALE:GREGORIAN
METHOD:PUBLISH
X-WR-CALNAME:Center for Personal Evolution
X-ORIGINAL-URL:https://centerforpersonalevolution.com
X-WR-CALDESC:Events for Center for Personal Evolution
BEGIN:VTIMEZONE
TZID:America/New_York
BEGIN:DAYLIGHT
TZOFFSETFROM:-0500
TZOFFSETTO:-0400
TZNAME:EDT
DTSTART:20220313T070000
END:DAYLIGHT
BEGIN:STANDARD
TZOFFSETFROM:-0400
TZOFFSETTO:-0500
TZNAME:EST
DTSTART:20221106T060000
END:STANDARD
END:VTIMEZONE
BEGIN:VEVENT
DTSTART;TZID=America/New_York:20220411T190000
DTEND;TZID=America/New_York:20220411T210000
DTSTAMP:20260423T093338
CREATED:20220314T193456Z
LAST-MODIFIED:20220314T193457Z
UID:3226-1649703600-1649710800@centerforpersonalevolution.com
SUMMARY:Shamanic Healing & Insight: A Journey Through Five Evening Gatherings of Transformation with Gwendolyn C. Natusch\, M.Ed.\, MSW
DESCRIPTION:Shamanic Healing & Insight \nwith Gwendolyn C. Natusch\, M.Ed.\, MSW \nA Journey Through Five Evening Gatherings of Transformation \nMonday Evenings 6:30pm to 8:30pm \nDates: \nApril May \n11th \n18th \n25th \n2nd \n9th \n  \nA Five Evening Series \nThis is a circle of healing & Intuitive Information given for each participant. Being in circle and in community for healing is the ancient way of transformation. This is a unique experience that can be deeply transformative. \n  \nYou will experience a full Shamanic Healing in a sacred circle as well as an intuitive reading from Shamanic Practitioner and Intuitive Gwendolyn C. Natusch. This event will offer healing and transformation for each circle participant. \n  \nCome & Heal! \n  \nTo Sign Up: Email\, text or phone 508-560-6891 centerforpersonalevolution@gmail.com \nDates: April 11th\, 18th & 25th and May 2nd & 9th\, 2022 \nLocation: Zoom \nCost: $125 for all Classes \nPayment: Please pay for the class prior to the first gathering. Thank you! \nPayment Options: Payment can be made via PayPal to the email \ncenterforpersonalevolution@gmail.com. \nPayment can also be made via check or money order. Checks and money orders can be made out to Center for Personal Evolution and mailed to Gwendolyn C. Natusch at 6200 Cardinal Drive New Bern\, NC 28560. \n  \n  \n  \nZoom Gathering Meeting Details: \n  \nTopic: Shamanic Healing & Insight \n  \nTime: Apr 11\, 2022 07:00 PM Eastern Time (US and Canada) \n  \nJoin Zoom Meeting \n  \nZoom Meeting URL: https://us06web.zoom.us/j/83279811601?pwd=dHA3NU94eEJGQ0hvZHJSZ0JVU01Ydz09 \nMeeting ID: \n832 7981 1601 \nPasscode:  \n455818 \n  \nOne tap mobile \n+19292056099\,\,83279811601#\,\,\,\,*455818# US (New York) \n+13017158592\,\,83279811601#\,\,\,\,*455818# US (Washington DC) \nDial by your location \n+1 929 205 6099 US (New York) \n+1 301 715 8592 US (Washington DC) \n+1 312 626 6799 US (Chicago) \n+1 669 900 6833 US (San Jose) \n+1 253 215 8782 US (Tacoma) \n+1 346 248 7799 US (Houston) \nMeeting ID: 832 7981 1601 \nPasscode: 455818 \nFind your local number: https://us06web.zoom.us/u/k041k65CR \n  \nThe Center for Personal Evolution  \n& Owl Medicine: A Shamanic Healing Path \nGwendolyn C. Natusch\, M.Ed.\, MSW \nwww.centerforpersonalevolution.com \n508-560-6891 \ncenterforpersonalevolution@gmail.com \n 
URL:https://centerforpersonalevolution.com/event/shamanic-healing-insight-a-journey-through-five-evening-gatherings-of-transformation-with-gwendolyn-c-natusch-m-ed-msw/
LOCATION:Online in our Zoom Classroom\, United States
END:VEVENT
END:VCALENDAR