BEGIN:VCALENDAR
VERSION:2.0
PRODID:-//Center for Personal Evolution - ECPv5.10.0//NONSGML v1.0//EN
CALSCALE:GREGORIAN
METHOD:PUBLISH
X-WR-CALNAME:Center for Personal Evolution
X-ORIGINAL-URL:https://centerforpersonalevolution.com
X-WR-CALDESC:Events for Center for Personal Evolution
BEGIN:VTIMEZONE
TZID:America/New_York
BEGIN:DAYLIGHT
TZOFFSETFROM:-0500
TZOFFSETTO:-0400
TZNAME:EDT
DTSTART:20210314T070000
END:DAYLIGHT
BEGIN:STANDARD
TZOFFSETFROM:-0400
TZOFFSETTO:-0500
TZNAME:EST
DTSTART:20211107T060000
END:STANDARD
END:VTIMEZONE
BEGIN:VEVENT
DTSTART;TZID=America/New_York:20210515T183000
DTEND;TZID=America/New_York:20210515T203000
DTSTAMP:20260424T115336
CREATED:20210504T223850Z
LAST-MODIFIED:20210504T223850Z
UID:3040-1621103400-1621110600@centerforpersonalevolution.com
SUMMARY:Public Monthly Shamanic Journey Circle Gathering 
DESCRIPTION:Public Monthly Shamanic Journey Circle Gathering\n\n\n\nSaturday May 15th\, 2021 at 6:30 to 8:30pm\n\nJoin us Online via Zoom!\n\n\nGwendolyn C. Natusch M.Ed.\, MSW is inviting you to a scheduled Zoom meeting. \nTopic: Shamanic Journey Group for All!\nTime: May 15\, 2021 06:30 PM Eastern Time (US and Canada) \nJoin Zoom Meeting\nhttps://zoom.us/j/99512353485?pwd=cHh6UnNETm9mdEI0bUtmenhRL0x4QT09 \nMeeting ID: 995 1235 3485\nPasscode: Shaman\nOne tap mobile\n+13017158592\,\,99512353485#\,\,\,\,*072714# US (Washington DC)\n+13126266799\,\,99512353485#\,\,\,\,*072714# US (Chicago) \nDial by your location\n+1 301 715 8592 US (Washington DC)\n+1 312 626 6799 US (Chicago)\n+1 929 205 6099 US (New York)\n+1 253 215 8782 US (Tacoma)\n+1 346 248 7799 US (Houston)\n+1 669 900 6833 US (San Jose)\nMeeting ID: 995 1235 3485\nPasscode: 072714\nFind your local number: https://zoom.us/u/ar1SPepj5
URL:https://centerforpersonalevolution.com/event/public-monthly-shamanic-journey-circle-gathering/
LOCATION:zoom online event
END:VEVENT
END:VCALENDAR