BEGIN:VCALENDAR
VERSION:2.0
PRODID:-//Center for Personal Evolution - ECPv5.10.0//NONSGML v1.0//EN
CALSCALE:GREGORIAN
METHOD:PUBLISH
X-WR-CALNAME:Center for Personal Evolution
X-ORIGINAL-URL:https://centerforpersonalevolution.com
X-WR-CALDESC:Events for Center for Personal Evolution
BEGIN:VTIMEZONE
TZID:America/New_York
BEGIN:DAYLIGHT
TZOFFSETFROM:-0500
TZOFFSETTO:-0400
TZNAME:EDT
DTSTART:20200308T070000
END:DAYLIGHT
BEGIN:STANDARD
TZOFFSETFROM:-0400
TZOFFSETTO:-0500
TZNAME:EST
DTSTART:20201101T060000
END:STANDARD
END:VTIMEZONE
BEGIN:VEVENT
DTSTART;TZID=America/New_York:20200307T080000
DTEND;TZID=America/New_York:20200307T170000
DTSTAMP:20260424T180023
CREATED:20200212T063525Z
LAST-MODIFIED:20200212T063525Z
UID:2768-1583568000-1583600400@centerforpersonalevolution.com
SUMMARY:Psychic Saturday
DESCRIPTION:Psychic Saturday \nCome and get a reading and/or healing \nfrom your local healers & psychics! \n  \nMarch 7\, 2020 \n1:00pm to 5:00pm \n  \nOpen to the Public! \n  \nCome and drop on by for a reading! \n  \nThis event invites you to come and receive messages\, good vibes and healing from intuitives that live locally to you in and around the New Bern area. \nEach month we will have a different combination of readers and offerings. This is an exciting opportunity to receive insights and spiritual information while supporting your local healers and intuitives & work with them face to face. Come and join us! \n  \nWhat you will discover at Psychic Saturday: \nIntuitive Readings \nShamanic Healing & Intuitive Readings \nRune Stone Readings \nAngel Card Readings \nColor Readings \nReiki Energy Work \n  \nAt the Psychic Fair you will be able to have a reading or healing session with the following individuals: \nSpencer \nDouglas \nGwendolyn \nApril \nWendy \nCatherine \n  \nEach of these psychics and intuitive readers have special skills and can offer you insight and connection to the Divine. \nCost: Readings & Healing Sessions are \n$20.00 for 20 minutes \nLocation: The Center for Personal Evolution \nat 606 Pinetree Drive New Bern\, NC \nInformation: call\, text or email 508-560-6891 \ncenterforpersonalevolution@gmail.com \n  \n  \n  \nPsychic Saturday is hosted by: \nThe Center for Personal Evolution \nwww.centerforpersonalevolution.com \ncenterforpersonalevolution@gmail.com \n508-560-6891 \n606 Pinetree Drive New Bern\, NC 28562
URL:https://centerforpersonalevolution.com/event/psychic-saturday-5/
LOCATION:606 Pinetree Drive new bern nc
ORGANIZER;CN="Gwendolyn%20C.%20Natusch":MAILTO:centerforpersonalevolution@gmail.com
END:VEVENT
END:VCALENDAR