BEGIN:VCALENDAR
VERSION:2.0
PRODID:-//Center for Personal Evolution - ECPv5.10.0//NONSGML v1.0//EN
CALSCALE:GREGORIAN
METHOD:PUBLISH
X-WR-CALNAME:Center for Personal Evolution
X-ORIGINAL-URL:https://centerforpersonalevolution.com
X-WR-CALDESC:Events for Center for Personal Evolution
BEGIN:VTIMEZONE
TZID:America/New_York
BEGIN:DAYLIGHT
TZOFFSETFROM:-0500
TZOFFSETTO:-0400
TZNAME:EDT
DTSTART:20190310T070000
END:DAYLIGHT
BEGIN:STANDARD
TZOFFSETFROM:-0400
TZOFFSETTO:-0500
TZNAME:EST
DTSTART:20191103T060000
END:STANDARD
END:VTIMEZONE
BEGIN:VEVENT
DTSTART;TZID=America/New_York:20191109T130000
DTEND;TZID=America/New_York:20191109T170000
DTSTAMP:20260425T071017
CREATED:20190818T164726Z
LAST-MODIFIED:20191010T211020Z
UID:2683-1573304400-1573318800@centerforpersonalevolution.com
SUMMARY:Psychic Saturday
DESCRIPTION:Psychic Saturday \nCome and get a reading from your local psychics! \nNovember 9th\, 2019\n1:00am to 5:00pm \nThis event invites you to come and receive messages\, good vibes and healing messages from intuitives that live locally to you in and around the New Bern area. There will also be healing opportunities such as Shamanic Healing\, Reiki Healing & Massage. \nWhat you will discover at Psychic Saturday:\nIntuitive Readings\nShamanic Healing & Intuitive Readings\nMassage Healing Touch & More! \nEach month we will have a different combination of readers and offerings. This is an exciting opportunity to receive insights and spiritual information while supporting your local healing and intuitives & work with them face to face. Come and join us! \nCost: Readings & Healing Sessions are\n$20.00 for 20 minutes \nLocation: The Center for Personal Evolution\nat 606 Pinetree Drive New Bern\, NC \nInformation: call\, text or email 508-560-6891\ncenterforpersonalevolution@gmail.com
URL:https://centerforpersonalevolution.com/event/psychic-saturday-4/
LOCATION:606 Pinetree Drive new bern nc
ORGANIZER;CN="Gwendolyn%20C.%20Natusch":MAILTO:centerforpersonalevolution@gmail.com
END:VEVENT
END:VCALENDAR