BEGIN:VCALENDAR
VERSION:2.0
PRODID:-//Center for Personal Evolution - ECPv5.10.0//NONSGML v1.0//EN
CALSCALE:GREGORIAN
METHOD:PUBLISH
X-WR-CALNAME:Center for Personal Evolution
X-ORIGINAL-URL:https://centerforpersonalevolution.com
X-WR-CALDESC:Events for Center for Personal Evolution
BEGIN:VTIMEZONE
TZID:America/New_York
BEGIN:DAYLIGHT
TZOFFSETFROM:-0500
TZOFFSETTO:-0400
TZNAME:EDT
DTSTART:20200308T070000
END:DAYLIGHT
BEGIN:STANDARD
TZOFFSETFROM:-0400
TZOFFSETTO:-0500
TZNAME:EST
DTSTART:20201101T060000
END:STANDARD
END:VTIMEZONE
BEGIN:VEVENT
DTSTART;TZID=America/New_York:20200324T190000
DTEND;TZID=America/New_York:20200324T213000
DTSTAMP:20260424T193129
CREATED:20200306T030143Z
LAST-MODIFIED:20200312T130559Z
UID:2790-1585076400-1585085400@centerforpersonalevolution.com
SUMMARY:Past Life Regression  with Gwendolyn C. Natusch\, M.Ed.\, MSW
DESCRIPTION:Past Life Regression \nwith Gwendolyn C. Natusch\, M.Ed.\, MSW \nMarch 24th\, 2020 \n7:00pm to 9:30pm\nA Tuesday Evening Workshop! \nOPEN TO THE PUBLIC \nJoin us in a group experience of a Past Life Regression! \nSignup before the workshop or come on by on the 24th of March! \nIn this Tuesday evening workshop you will be guided into a past life and discover that you have lived before. You will be guided to discover challenges from that life and how you overcame them and gained knowledge and strength from the experiences in the past life. In the past life guided hypnosis you will bring these strengths and knowledge into your conscious mind and have access to them in your current life. \nThis experience can assist in answering spiritual questions that you may have\, resolving issues in one’s life and in relationships. Much awareness can be gleaned in a past life regression experience. Discovering your past lives is a fascinating way to understand who you are as an immortal soul living a human life. It enables you to heal the present through the past and can bring great inner peace. \nThe following questions and answers will help you decide if you’d like to experience this profound work with my assistance and support as a certified past life regression therapist. \nWhat is a past-life regression? \nA past-life regression recalls scenes\, feelings and memories from another lifetime that one has lived as though it were happening now. \nHow can I remember a past life? \nSome people have spontaneous flashbacks during the waking state. This may be triggered by an event\, such as visiting a place where one has lived in a past life. Past life memories may also appear in dreams or during meditation. Some people have very vivid and emotional recall while others may have an intuitive knowing without a lot of emotion and imagery. \nWhat is past life regression therapy? \nPast life regression therapy is a holistic therapy that works with the body\, mind\, emotions and spirit. It is based on the principles of cause and effect (karma) and the theory that your reactions and the way you respond to problems are based in the past. \nWhat are some more benefits of past life regression therapy? \nPast life regression therapy can transform your life! It will help you to develop your full potential\, unlock hidden talents\, and create more compassion and love for yourself and others. It can reveal your life purpose and reason for incarnating\, and help you to overcome the fear of death. After a past life regression session\, many clients report feeling a greater sense of inner peace\, love and self-acceptance when they understand that they have chosen their life circumstances and the lessons that they need to learn. Past life regression therapy supersedes other therapies in its more profound perspective on the meaning of life. It transcends religious dogma and is beneficial regardless of your religion or spiritual beliefs. You do not have to believe in reincarnation to receive healing from this amazing technique. \nWorkshop Cost: $20.00 \nLocation: At The Center for Personal Evolution \n606 Pinetree Drive New Bern\, NC 28562 \nFor more information or to attend the workshop please contact: \nGwendolyn Natusch phone or text 508-560-6891 \nEmail: centerforpersonalevolution@gmail.com \nwww.centerforpersonalevolution.com 
URL:https://centerforpersonalevolution.com/event/past-life-regression-with-gwendolyn-c-natusch-m-ed-msw-2/
LOCATION:606 Pinetree Drive new bern nc
ORGANIZER;CN="Gwendolyn%20C.%20Natusch":MAILTO:centerforpersonalevolution@gmail.com
END:VEVENT
END:VCALENDAR