BEGIN:VCALENDAR
VERSION:2.0
PRODID:-//Center for Personal Evolution - ECPv5.10.0//NONSGML v1.0//EN
CALSCALE:GREGORIAN
METHOD:PUBLISH
X-WR-CALNAME:Center for Personal Evolution
X-ORIGINAL-URL:https://centerforpersonalevolution.com
X-WR-CALDESC:Events for Center for Personal Evolution
BEGIN:VTIMEZONE
TZID:America/New_York
BEGIN:DAYLIGHT
TZOFFSETFROM:-0500
TZOFFSETTO:-0400
TZNAME:EDT
DTSTART:20220313T070000
END:DAYLIGHT
BEGIN:STANDARD
TZOFFSETFROM:-0400
TZOFFSETTO:-0500
TZNAME:EST
DTSTART:20221106T060000
END:STANDARD
END:VTIMEZONE
BEGIN:VEVENT
DTSTART;VALUE=DATE:20220715
DTEND;VALUE=DATE:20220720
DTSTAMP:20260423T143123
CREATED:20220623T230254Z
LAST-MODIFIED:20220623T230255Z
UID:3303-1657846800-1658192399@centerforpersonalevolution.com
SUMMARY:Multi-Cultural Advanced Shamanic Medicine Wheel Journey with Gwendolyn C. Natusch\, M.Ed.\, MSW
DESCRIPTION:
URL:https://centerforpersonalevolution.com/event/multi-cultural-advanced-shamanic-medicine-wheel-journey-with-gwendolyn-c-natusch-m-ed-msw/
LOCATION:Online Event on Zoom
END:VEVENT
END:VCALENDAR