BEGIN:VCALENDAR
VERSION:2.0
PRODID:-//Center for Personal Evolution - ECPv5.10.0//NONSGML v1.0//EN
CALSCALE:GREGORIAN
METHOD:PUBLISH
X-WR-CALNAME:Center for Personal Evolution
X-ORIGINAL-URL:https://centerforpersonalevolution.com
X-WR-CALDESC:Events for Center for Personal Evolution
BEGIN:VTIMEZONE
TZID:America/New_York
BEGIN:DAYLIGHT
TZOFFSETFROM:-0500
TZOFFSETTO:-0400
TZNAME:EDT
DTSTART:20210314T070000
END:DAYLIGHT
BEGIN:STANDARD
TZOFFSETFROM:-0400
TZOFFSETTO:-0500
TZNAME:EST
DTSTART:20211107T060000
END:STANDARD
END:VTIMEZONE
BEGIN:VEVENT
DTSTART;TZID=America/New_York:20210402T183000
DTEND;TZID=America/New_York:20210402T203000
DTSTAMP:20260424T132808
CREATED:20210402T001007Z
LAST-MODIFIED:20210402T001007Z
UID:3018-1617388200-1617395400@centerforpersonalevolution.com
SUMMARY:Monthly Shamanic Journey Circle Gathering with Gwendolyn C. Natusch\, M.Ed.\, MSW
DESCRIPTION:Monthly Shamanic Journey Circle Gathering\nwith Gwendolyn C. Natusch\, M.Ed.\, MSW \nOpen to all! \nOn Zoom \nFriday April 2\, 2021 \n6:30 – 8:45pm \nIn this gathering we will share discussions on shamanism\, learn the foundational concepts of shamanic cosmology and have an experience of journeying to discover your power animal\, connect with your guides\, receive guidance\, healing and revelations! \nCome and join us on Zoom and acquire a skill and tool that will deepen\nyour awareness as well as your spiritual practice! \nThe Shamanic Journey ~ The Gateway to Non-Ordinary Reality \nJourneying is a method for developing a personal connecting to the Divine and a direct communication from the Divine to you! Shamanic journeying is the art of using rhythm and intention to enter an altered state of consciousness in order to connect with the spiritual dimension of reality. With Experiencing the Shamanic Journey\, you are invited to learn this safe\, reliable\, and transformative technique. Once you have mastered this simple process you will have a spiritual tool that will serve you for the rest of your life. \nCome and join us for journeying in our new Zoom community! \n\nTo Sign up please email\, text or call Gwendolyn at 508-560-6891 or centerforpersonalevolution@gmail.com \n\nI look forward to connecting with you!\nGwendolyn \nThis is a donation based gathering.  \nPlease donate what you are able and feels right to you via PayPal to email centerforpersonalevolution@gmail.com The suggested donation is $5.00 to $10.00.  \nBut feel free to donate what you are able. \nHow to join the Zoom Classroom: \n\n If you do not have Zoom on your device please download it by going to the Zoom website at:\n\nhttps://www.zoom.us/ \n2. Once you have Zoom downloaded simply type or paste in the Zoom Meeting ID: 994 4751 0560 \n\n\nThen type in the password in the window that pops up: 638452\n\nYou can also paste or type the direct link into your search engine address bar.\n\n  \nJourney Gathering Zoom Meeting Details \n  \nZoom Meeting URL:  \n  \nhttps://zoom.us/j/99447510560?pwd=QVpCeWFxcG9DaDRaR2k4VEhKcU1XUT09 \n\nZoom Meeting ID: 994 4751 0560 \nZoom Meeting Password: 638452 \nTo sign up and/or for More Information please contact us at 508-560-6891 via phone or text and also via email at centerforpersonalevolution@gmail.com \n 
URL:https://centerforpersonalevolution.com/event/monthly-shamanic-journey-circle-gathering-with-gwendolyn-c-natusch-m-ed-msw-2/
ORGANIZER;CN="Gwendolyn%20C.%20Natusch":MAILTO:centerforpersonalevolution@gmail.com
END:VEVENT
END:VCALENDAR