BEGIN:VCALENDAR
VERSION:2.0
PRODID:-//Center for Personal Evolution - ECPv5.10.0//NONSGML v1.0//EN
CALSCALE:GREGORIAN
METHOD:PUBLISH
X-WR-CALNAME:Center for Personal Evolution
X-ORIGINAL-URL:https://centerforpersonalevolution.com
X-WR-CALDESC:Events for Center for Personal Evolution
BEGIN:VTIMEZONE
TZID:America/New_York
BEGIN:DAYLIGHT
TZOFFSETFROM:-0500
TZOFFSETTO:-0400
TZNAME:EDT
DTSTART:20190310T070000
END:DAYLIGHT
BEGIN:STANDARD
TZOFFSETFROM:-0400
TZOFFSETTO:-0500
TZNAME:EST
DTSTART:20191103T060000
END:STANDARD
END:VTIMEZONE
BEGIN:VEVENT
DTSTART;TZID=America/New_York:20190828T190000
DTEND;TZID=America/New_York:20190828T210000
DTSTAMP:20260424T115249
CREATED:20190818T155532Z
LAST-MODIFIED:20190818T155532Z
UID:2645-1567018800-1567026000@centerforpersonalevolution.com
SUMMARY:Gong Sound Bath Meditation
DESCRIPTION:Gong Sound Bath Meditation \nWednesday Evening August 28th\, 2019\n7:00pm to 9:00pm \nGong Sound Baths are one of the most soothing\, body rejuvenating\, vibrational ancient tools. A gong bath sound meditation is a sound massage for the body and mind. The Chinese used gongs for many ceremonial functions and personal transformation. \nThe vibration of a gong is a powerful method for reducing stress. In the Gong Sound Bath Meditation the gong creates an ocean of sound that is profoundly relaxing; a state which activates the parasympathetic nervous system to balance the over-amped\, over-taxed sympathetic nervous system. These Gong Sound Baths get your energy field back in harmony\, resulting in a rebalancing of energy and an increase in relaxation and are like a cleanse for your cells. \nThe waves of sound produced by the gong are said to\ncalm the nervous system and balance the subtle body. \nOther benefits from a Gong Bath include:\n*Lowers anger and blood pressure\n*Improves circulation and increases blood flow\n*Deep relaxation and pain relief\n*Chakra balancing\n*Increases mental and emotional clarity\n*Promotes stillness\, happiness and well being\n*Stimulates the immune system. \nCome and join us and experience the\nGong Sound Bath Meditation for yourself! \nDate: Wednesday August 28th\, 2019\nTime: 7:00 to 9:00pm\nLocation: 606 Pinetree Drive New Bern\, NC 28562\nCost: $10.00\nSignup: Drop by\, email\, text or phone Gwendolyn to attend at 508-560-6891 and centerforpersonalevolution@gmail.com \nThe Center for Personal Evolution\nwww.centerforpersonalevolution.com\n508-560-6891
URL:https://centerforpersonalevolution.com/event/gong-sound-bath-meditation/
LOCATION:606 Pinetree Drive new bern nc
ORGANIZER;CN="Gwendolyn%20C.%20Natusch":MAILTO:centerforpersonalevolution@gmail.com
END:VEVENT
END:VCALENDAR