BEGIN:VCALENDAR
VERSION:2.0
PRODID:-//Center for Personal Evolution - ECPv5.10.0//NONSGML v1.0//EN
CALSCALE:GREGORIAN
METHOD:PUBLISH
X-WR-CALNAME:Center for Personal Evolution
X-ORIGINAL-URL:https://centerforpersonalevolution.com
X-WR-CALDESC:Events for Center for Personal Evolution
BEGIN:VTIMEZONE
TZID:America/New_York
BEGIN:DAYLIGHT
TZOFFSETFROM:-0500
TZOFFSETTO:-0400
TZNAME:EDT
DTSTART:20200308T070000
END:DAYLIGHT
BEGIN:STANDARD
TZOFFSETFROM:-0400
TZOFFSETTO:-0500
TZNAME:EST
DTSTART:20201101T060000
END:STANDARD
END:VTIMEZONE
BEGIN:VEVENT
DTSTART;TZID=America/New_York:20200123T080000
DTEND;TZID=America/New_York:20200123T170000
DTSTAMP:20260424T134232
CREATED:20191230T022733Z
LAST-MODIFIED:20191230T022733Z
UID:2746-1579766400-1579798800@centerforpersonalevolution.com
SUMMARY:Gong Bath Sound Meditation
DESCRIPTION:Gong Bath Sound Meditation\nThursday Evening \nJanuary 23rd\, 2020 \n7:00pm to 9:00pm \nOpen to the Public \nDrop on by and join the sound cirlce! \nGong Baths are one of the most soothing\, body rejuvenating\, vibrational ancient tools. A gong bath sound meditation is a sound massage for the body and mind. The Chinese used gongs for many ceremonial functions and personal transformation. \nThe vibration of a gong is a powerful method for reducing stress. In the Gong Bath Sound Meditation\, the gong creates an ocean of sound that is profoundly relaxing; a state which activates the parasympathetic nervous system to balance the over-amped\, over-taxed sympathetic nervous system. These Gong Sound Baths get your energy field back in harmony\, resulting in a rebalancing of energy and an increase in relaxation and are like a cleanse for your cells. \nThe waves of sound produced by the gong are said to calm the nervous system and balance the subtle body. Other benefits from a Gong Bath include: \n*Lowers anger and blood pressure *Improves circulation and increases blood flow *Deep relaxation and pain relief *Chakra balancing *Increases mental and emotional clarity *Promotes stillness\, happiness and well being *Stimulates the immune system. \nCome and join us and experience the Gong Sound Bath Meditation for yourself!                                                                                                 \nOpen to the Public!!                                                                                                     \nTime: 7:00 to 9:00pm \nLocation: 606 Pinetree Drive New Bern\, NC 28562 \nCost: $10.00 \n  \nWe also offer individual Gong Sound Baths Session:  \n$20.00 for 30 minutes  \n$40.00 for an hour \n  \nFor information or to schedule an appointment please Call/text 508-560-6891 or email centerforpersonalevolution@gmail.com  \n Visit the Center for Personal Evolution’s Website! www.centerforpersonalevolution.com
URL:https://centerforpersonalevolution.com/event/gong-bath-sound-meditation-2/
LOCATION:606 Pinetree Drive new bern nc
ORGANIZER;CN="Gwendolyn%20C.%20Natusch":MAILTO:centerforpersonalevolution@gmail.com
END:VEVENT
END:VCALENDAR