BEGIN:VCALENDAR
VERSION:2.0
PRODID:-//Center for Personal Evolution - ECPv5.10.0//NONSGML v1.0//EN
CALSCALE:GREGORIAN
METHOD:PUBLISH
X-WR-CALNAME:Center for Personal Evolution
X-ORIGINAL-URL:https://centerforpersonalevolution.com
X-WR-CALDESC:Events for Center for Personal Evolution
BEGIN:VTIMEZONE
TZID:America/New_York
BEGIN:DAYLIGHT
TZOFFSETFROM:-0500
TZOFFSETTO:-0400
TZNAME:EDT
DTSTART:20210314T070000
END:DAYLIGHT
BEGIN:STANDARD
TZOFFSETFROM:-0400
TZOFFSETTO:-0500
TZNAME:EST
DTSTART:20211107T060000
END:STANDARD
END:VTIMEZONE
BEGIN:VEVENT
DTSTART;TZID=America/New_York:20210513T183000
DTEND;TZID=America/New_York:20210513T203000
DTSTAMP:20260424T132510
CREATED:20210504T235430Z
LAST-MODIFIED:20210505T000235Z
UID:3047-1620930600-1620937800@centerforpersonalevolution.com
SUMMARY:Full Mesa Carriers Shamanic Circle Gathering (Closed Group) 
DESCRIPTION:Full Mesa Carriers Shamanic Circle Gathering (Closed Group)\n\nThursday Evening 6:30 to 8:30pm May 13th\, 2021 \n\nGwendolyn C. Natusch M.Ed.\, MSW is inviting you to a scheduled Zoom meeting. \nTopic: Shaman Circle Gathering\nTime: May 13\, 2021 06:30 PM Eastern Time (US and Canada) \nJoin Zoom Meeting\nhttps://zoom.us/j/93527761474?pwd=dTg2NlUwdWwzZE8vMlJTVjI3REw1UT09 \nMeeting ID: 935 2776 1474\nPasscode: Shaman\nOne tap mobile\n+19292056099\,\,93527761474#\,\,\,\,*599162# US (New York)\n+13017158592\,\,93527761474#\,\,\,\,*599162# US (Washington DC) \nDial by your location\n+1 929 205 6099 US (New York)\n+1 301 715 8592 US (Washington DC)\n+1 312 626 6799 US (Chicago)\n+1 669 900 6833 US (San Jose)\n+1 253 215 8782 US (Tacoma)\n+1 346 248 7799 US (Houston)\nMeeting ID: 935 2776 1474\nPasscode: 599162\nFind your local number: https://zoom.us/u/abzzctEHIo
URL:https://centerforpersonalevolution.com/event/full-mesa-carriers-shamanic-journey-circle-gathering-closed-group/
END:VEVENT
END:VCALENDAR