BEGIN:VCALENDAR
VERSION:2.0
PRODID:-//Center for Personal Evolution - ECPv5.10.0//NONSGML v1.0//EN
CALSCALE:GREGORIAN
METHOD:PUBLISH
X-WR-CALNAME:Center for Personal Evolution
X-ORIGINAL-URL:https://centerforpersonalevolution.com
X-WR-CALDESC:Events for Center for Personal Evolution
BEGIN:VTIMEZONE
TZID:America/New_York
BEGIN:DAYLIGHT
TZOFFSETFROM:-0500
TZOFFSETTO:-0400
TZNAME:EDT
DTSTART:20200308T070000
END:DAYLIGHT
BEGIN:STANDARD
TZOFFSETFROM:-0400
TZOFFSETTO:-0500
TZNAME:EST
DTSTART:20201101T060000
END:STANDARD
END:VTIMEZONE
BEGIN:VEVENT
DTSTART;TZID=America/New_York:20200212T080000
DTEND;TZID=America/New_York:20200212T170000
DTSTAMP:20260424T182805
CREATED:20200212T063702Z
LAST-MODIFIED:20200212T063702Z
UID:2770-1581494400-1581526800@centerforpersonalevolution.com
SUMMARY:Free Valentine’s Day Raffle!!!  A Spiritual Valentine for Body\, Mind & Soul A Valentine for Your Sweet Self!
DESCRIPTION:Free Valentine’s Day Raffle!!! \nA Spiritual Valentine for Body\, Mind & Soul\nA Valentine for Your Sweet Self! \nThis FREE Raffle is just for you! \nThis is a basket full of self care products and the 21 day Self Care Challenge! The contents of the basket includes products that soothe and calm your body\, mind and Soul! Check out the photos of all of the goodies just for you! \nRaffle Instructions:\nSimply email Gwendolyn at centerforpersonaleolution@gmail.com or call or send a text to 508-560-6891 with your first name and your phone number and/or email address to be signed up to win this Valentine Raffle. \nThis Valentine for Your Sweet Self will be mailed to you if you live 50+ miles away from New Bern\, NC 28562. \nIf you live 49 miles or less from New Bern\, please\, as the winner of the raffle\, pick up your Valentine basket raffle gift at 606 Pinetree Drive New Bern\, NC 28560. \nThe Spiritual Valentine for Body\, Mind and Soul Valentine Raffle will be drawn on February 14th and the winner will be contacted the same day! \nGood Luck Everyone!!
URL:https://centerforpersonalevolution.com/event/free-valentines-day-raffle-a-spiritual-valentine-for-body-mind-soul-a-valentine-for-your-sweet-self/
END:VEVENT
END:VCALENDAR