BEGIN:VCALENDAR
VERSION:2.0
PRODID:-//Center for Personal Evolution - ECPv5.10.0//NONSGML v1.0//EN
CALSCALE:GREGORIAN
METHOD:PUBLISH
X-WR-CALNAME:Center for Personal Evolution
X-ORIGINAL-URL:https://centerforpersonalevolution.com
X-WR-CALDESC:Events for Center for Personal Evolution
BEGIN:VTIMEZONE
TZID:America/New_York
BEGIN:DAYLIGHT
TZOFFSETFROM:-0500
TZOFFSETTO:-0400
TZNAME:EDT
DTSTART:20200308T070000
END:DAYLIGHT
BEGIN:STANDARD
TZOFFSETFROM:-0400
TZOFFSETTO:-0500
TZNAME:EST
DTSTART:20201101T060000
END:STANDARD
END:VTIMEZONE
BEGIN:VEVENT
DTSTART;TZID=America/New_York:20200409T190000
DTEND;TZID=America/New_York:20200409T210000
DTSTAMP:20260424T192219
CREATED:20200406T162310Z
LAST-MODIFIED:20200406T162310Z
UID:2810-1586458800-1586466000@centerforpersonalevolution.com
SUMMARY:CPE PopUp Event! Chakra Clearing & Balancing Meditation with Gwendolyn C. Natusch\, M.Ed.\, MSW
DESCRIPTION:CPE PopUp Event!\nChakra Clearing & Balancing Meditation\nwith Gwendolyn C. Natusch\, M.Ed.\, MSW \nThursday April 9th\, 2020\n7pm to 9pm \nIn this meditation you will be guided through the chakras for energetic nurturance\, centering & grounding\, clearing and clarifying your energy and connecting and grounding with Mother Earth and Source (that energy known by a thousand different names). In this meditation you will be offered the invitation to have a spiritual experience within you that offers inspiration\, insight\, balancing of energy\, potential transformation and spiritual comfort. This meditation can potentially bring a more peaceful sleep and rest as well as lift your mood and center you again during this time of challenge. Join me on a journey through your chakras for clearing\, transformation and energetic recharging! \nEvent Location: Zoom Online Meeting Room\nCost: Free \nZoom Chakra Clearing & Balancing Meditation Meeting ID:\n290-308-2802 \nChakra Clearing & Balancing Meditation Zoom Meeting URL:\nhttps://zoom.us/j/2903082802 \nIf needed\, text 508-560-6891 for Meeting password. You should be all set without a password though. \nCome and Join Us!
URL:https://centerforpersonalevolution.com/event/cpe-popup-event-chakra-clearing-balancing-meditation-with-gwendolyn-c-natusch-m-ed-msw/
LOCATION:Online Event on Zoom
ORGANIZER;CN="Gwendolyn%20C.%20Natusch":MAILTO:centerforpersonalevolution@gmail.com
END:VEVENT
END:VCALENDAR