BEGIN:VCALENDAR
VERSION:2.0
PRODID:-//Center for Personal Evolution - ECPv5.10.0//NONSGML v1.0//EN
CALSCALE:GREGORIAN
METHOD:PUBLISH
X-WR-CALNAME:Center for Personal Evolution
X-ORIGINAL-URL:https://centerforpersonalevolution.com
X-WR-CALDESC:Events for Center for Personal Evolution
BEGIN:VTIMEZONE
TZID:America/New_York
BEGIN:DAYLIGHT
TZOFFSETFROM:-0500
TZOFFSETTO:-0400
TZNAME:EDT
DTSTART:20220313T070000
END:DAYLIGHT
BEGIN:STANDARD
TZOFFSETFROM:-0400
TZOFFSETTO:-0500
TZNAME:EST
DTSTART:20221106T060000
END:STANDARD
END:VTIMEZONE
BEGIN:VEVENT
DTSTART;TZID=America/New_York:20220531T190000
DTEND;TZID=America/New_York:20220531T210000
DTSTAMP:20260423T110232
CREATED:20220529T173808Z
LAST-MODIFIED:20220529T175004Z
UID:3294-1654023600-1654030800@centerforpersonalevolution.com
SUMMARY:Connecting with Your Spirit Guides
DESCRIPTION:May 31\, 2022 \nTuesday Evening 7pm to 9pm \nAn Online Event on Zoom! \n  \nWe all have Spirit Guides whose purpose is to lovingly and wisely guide\, assist and inspire us on our life’s journey. \nIn this class each participant will learn to \nbuild a connection with their guide! \n  \nAlso you will… \n~ Learn to recognize the Spirit Guides around you \n~ Learn how to establish a connection to your guide \n~ Understand how our Guides send us messages and what the signs are that they use to communicate with us. \n~ Receive messages and guidance from your guide \n  \nWe’ll be doing a Guided Mediation where you’ll meet your Spirit guide and begin to learn a new language – the language of Source and your Soul! \n  \nCome & Connect!! \n  \nTo Sign Up: Simply make your payment via PayPal and join us. Feel free to Email\, text or phone 508-560-6891 centerforpersonalevolution@gmail.com to let Gwendolyn know you will be present. \nDate: May 31st\, 2022 \nTime: 7:00pm to 9:00pm \nLocation: Zoom Meeting Room \nCost: $10.00 \n(Upon payment you will be welcomed into the Zoom Meeting Room!) \nPayment Options: \nPlease visit PayPal and send $10 to centerforpersonalevolution@gmail.com \n  \nZoom Details: \n  \nJoin Zoom Meeting \n  \nTime: May 31\, 2022 07:00 PM Eastern Time (US and Canada) \n  \nJoin Zoom Meeting \n  \nURL: \nhttps://us06web.zoom.us/j/85345011698?pwd=YkRIYkNqRGs3ZXBSb1pXRWpuUlZxZz09 \n  \nMeeting ID: \n853 4501 1698 \n  \nPasscode: \n964912 \n  \nThe Center for Personal Evolution \n& Owl Medicine: A Shamanic Healing Path \nGwendolyn C. Natusch\, M.Ed.\, MSW \nwww.centerforpersonalevolution.com \n508-560-6891 \ncenterforpersonalevolution@gmail.com
URL:https://centerforpersonalevolution.com/event/connecting-with-your-spirit-guides/
LOCATION:Online Event on Zoom
END:VEVENT
END:VCALENDAR