BEGIN:VCALENDAR
VERSION:2.0
PRODID:-//Center for Personal Evolution - ECPv5.10.0//NONSGML v1.0//EN
CALSCALE:GREGORIAN
METHOD:PUBLISH
X-WR-CALNAME:Center for Personal Evolution
X-ORIGINAL-URL:https://centerforpersonalevolution.com
X-WR-CALDESC:Events for Center for Personal Evolution
BEGIN:VTIMEZONE
TZID:America/New_York
BEGIN:DAYLIGHT
TZOFFSETFROM:-0500
TZOFFSETTO:-0400
TZNAME:EDT
DTSTART:20220313T070000
END:DAYLIGHT
BEGIN:STANDARD
TZOFFSETFROM:-0400
TZOFFSETTO:-0500
TZNAME:EST
DTSTART:20221106T060000
END:STANDARD
END:VTIMEZONE
BEGIN:VEVENT
DTSTART;TZID=America/New_York:20220324T190000
DTEND;TZID=America/New_York:20220324T210000
DTSTAMP:20260423T110343
CREATED:20220314T193130Z
LAST-MODIFIED:20220314T193131Z
UID:3220-1648148400-1648155600@centerforpersonalevolution.com
SUMMARY:Chakra Balancing\, Clearing & Guided Meditation  with Gwendolyn C. Natusch\, M.Ed.\, MSW
DESCRIPTION:Chakra Balancing\, Clearing & Guided Meditation \nwith Gwendolyn C. Natusch\, M.Ed.\, MSW \n  \nMarch 24th\, 2022 \nThursday Evening \n7:00 to 9:00pm \nOn Zoom \n  \nIn this deeply relaxing chakra meditation participants will begin with gentle breathing and relaxation. This guided meditation through the chakras grounds you and brings in Divine Light connecting you to God\, Creator\, Source\, Great Spirit and balances the masculine and feminine within you. Through this experience each participant will energize and open their chakras\, clearing each energy center and releasing that which no longer serves. \nThe guided meditation takes you to your inner sanctuary where you will meet with those in Spirit who love you\, support you and are for you. To some these loving\, spiritual supporters appear as angels\, archetypes\, loving animals or religious avatars. It is unique to each individual. This experience potentially brings insight\, resolution\, and balancing to our inner experience and thought. It is rejuvenation\, energizing and deeply calming. \n  \nCome and experience it for yourself! \n  \nZoom Online Meeting Gathering \nTopic: Chakra Balancing & Meditation \nTime: 7:00pm to 9:00pm \nDate: Thursday March 24th\, 2022 \nCost: $10.00 \nPayment: Please pay via PayPal before class begins. Send payment to PayPal email centerforpersonalevolution@gmail.com Thank you. \nTo Sign Up: Simply make your payment via PayPal and join us. Feel free to Email\, text or phone 508-560-6891 centerforpersonalevolution@gmail.com to let Gwendolyn know you will be present. \n  \nZoom Meeting \nTopic: Chakra Balancing\, Clearing & Guided Meditation \nTime: Mar 24\, 2022 07:00 PM Eastern Time (US and Canada) \nMeeting URL: https://us06web.zoom.us/j/88553678076?pwd=WHNkdW1tNVB0VWlFV2NXWXEzeDdLQT09 \nMeeting ID: \n885 5367 8076 \nPasscode: \n971538 \n  \nOne tap mobile \n+13017158592\,\,88553678076#\,\,\,\,*971538# US (Washington DC) \n+13126266799\,\,88553678076#\,\,\,\,*971538# US (Chicago) \nDial by your location \n+1 301 715 8592 US (Washington DC) \n+1 312 626 6799 US (Chicago) \n+1 929 205 6099 US (New York) \n+1 253 215 8782 US (Tacoma) \n+1 346 248 7799 US (Houston) \n+1 669 900 6833 US (San Jose) \nMeeting ID: 885 5367 8076 \nPasscode: 971538 \nFind your local number: https://us06web.zoom.us/u/kUddwE9yu \n  \nThe Center for Personal Evolution  \n& Owl Medicine: A Shamanic Healing Path \nGwendolyn C. Natusch\, M.Ed.\, MSW \nwww.centerforpersonalevolution.com \n508-560-6891 \ncenterforpersonalevolution@gmail.com
URL:https://centerforpersonalevolution.com/event/chakra-balancing-clearing-guided-meditation-with-gwendolyn-c-natusch-m-ed-msw-3/
LOCATION:Zoom Classroom Online
END:VEVENT
END:VCALENDAR