BEGIN:VCALENDAR
VERSION:2.0
PRODID:-//Center for Personal Evolution - ECPv5.10.0//NONSGML v1.0//EN
CALSCALE:GREGORIAN
METHOD:PUBLISH
X-WR-CALNAME:Center for Personal Evolution
X-ORIGINAL-URL:https://centerforpersonalevolution.com
X-WR-CALDESC:Events for Center for Personal Evolution
BEGIN:VTIMEZONE
TZID:America/New_York
BEGIN:DAYLIGHT
TZOFFSETFROM:-0500
TZOFFSETTO:-0400
TZNAME:EDT
DTSTART:20210314T070000
END:DAYLIGHT
BEGIN:STANDARD
TZOFFSETFROM:-0400
TZOFFSETTO:-0500
TZNAME:EST
DTSTART:20211107T060000
END:STANDARD
END:VTIMEZONE
BEGIN:VEVENT
DTSTART;TZID=America/New_York:20210325T080000
DTEND;TZID=America/New_York:20210325T170000
DTSTAMP:20260424T132704
CREATED:20210203T201109Z
LAST-MODIFIED:20210203T201109Z
UID:2881-1616659200-1616691600@centerforpersonalevolution.com
SUMMARY:Awakening & Strengthening Your Intuitive Awareness with Gwendolyn C. Natusch\, M.Ed.\, MSW
DESCRIPTION:Awakening & Strengthening Your Intuitive Awareness with Gwendolyn C. Natusch\, M.Ed.\, MSW \nThursday Evening February 25th\, 2021 \nClosed Group \n  \nThis is an ongoing group where the discovery and development of intuition and intuitive applications are developed. \nA new open group will be offered in the spring of 2021. \nLook out for our newsletter\, events on Facebook and class lists on Alignable under the name of Center for Personal Evolution!
URL:https://centerforpersonalevolution.com/event/awakening-strengthening-your-intuitive-awareness-with-gwendolyn-c-natusch-m-ed-msw-2/
LOCATION:Online Event on Zoom
ORGANIZER;CN="Gwendolyn%20C.%20Natusch":MAILTO:centerforpersonalevolution@gmail.com
END:VEVENT
END:VCALENDAR