BEGIN:VCALENDAR
VERSION:2.0
PRODID:-//Center for Personal Evolution - ECPv5.10.0//NONSGML v1.0//EN
CALSCALE:GREGORIAN
METHOD:PUBLISH
X-WR-CALNAME:Center for Personal Evolution
X-ORIGINAL-URL:https://centerforpersonalevolution.com
X-WR-CALDESC:Events for Center for Personal Evolution
BEGIN:VTIMEZONE
TZID:America/New_York
BEGIN:DAYLIGHT
TZOFFSETFROM:-0500
TZOFFSETTO:-0400
TZNAME:EDT
DTSTART:20210314T070000
END:DAYLIGHT
BEGIN:STANDARD
TZOFFSETFROM:-0400
TZOFFSETTO:-0500
TZNAME:EST
DTSTART:20211107T060000
END:STANDARD
END:VTIMEZONE
BEGIN:VEVENT
DTSTART;TZID=America/New_York:20210319T090000
DTEND;TZID=America/New_York:20210319T170000
DTSTAMP:20260424T150108
CREATED:20210203T204815Z
LAST-MODIFIED:20210307T190551Z
UID:2901-1616144400-1616173200@centerforpersonalevolution.com
SUMMARY:Advanced Shamanic Retreat
DESCRIPTION:Advanced Shamanic Medicine Wheel: Walking with Spirit \nwith Shamanic Practitioner Gwendolyn C. Natusch\, M.Ed.\, MSW \nOn Zoom \nFriday – Sunday March 19th – 21st\, 2021 \n9:00am – 5:00pm & 7:00pm to 9:00pm \nRegistration Closed as all spots are full. \nOn Zoom \nFriday – Sunday March 19th – 21st\, 2021 \n9:00am – 5:00pm & 7:00pm to 9:00pm \nClosed Group
URL:https://centerforpersonalevolution.com/event/advanced-shamanic-retreat/
LOCATION:Online Event on Zoom
ORGANIZER;CN="Gwendolyn%20C.%20Natusch":MAILTO:centerforpersonalevolution@gmail.com
END:VEVENT
END:VCALENDAR