BEGIN:VCALENDAR
VERSION:2.0
PRODID:-//Center for Personal Evolution - ECPv5.10.0//NONSGML v1.0//EN
CALSCALE:GREGORIAN
METHOD:PUBLISH
X-WR-CALNAME:Center for Personal Evolution
X-ORIGINAL-URL:https://centerforpersonalevolution.com
X-WR-CALDESC:Events for Center for Personal Evolution
BEGIN:VTIMEZONE
TZID:America/New_York
BEGIN:DAYLIGHT
TZOFFSETFROM:-0500
TZOFFSETTO:-0400
TZNAME:EDT
DTSTART:20210314T070000
END:DAYLIGHT
BEGIN:STANDARD
TZOFFSETFROM:-0400
TZOFFSETTO:-0500
TZNAME:EST
DTSTART:20211107T060000
END:STANDARD
END:VTIMEZONE
BEGIN:VEVENT
DTSTART;TZID=America/New_York:20210316T190000
DTEND;TZID=America/New_York:20210316T210000
DTSTAMP:20260424T145938
CREATED:20210203T200001Z
LAST-MODIFIED:20210203T200256Z
UID:2869-1615921200-1615928400@centerforpersonalevolution.com
SUMMARY:Shamanism as a Personal Spiritual Practice: A Four Class Series with Gwendolyn C. Natusch\, M.Ed.\, MSW
DESCRIPTION:Tuesday Evenings\nMarch 9th\, 2021\n7:00 to 9:30pm \nAn Online Zoom Gathering!In this four-class series we will explore\, discover and deepen your knowledge and understanding of shamanism as a personal spiritual practice. You will discover\, connect with and deepen your relationships with your power animal(s) and spirit helpers/guides. You will learn the art of interpretation and magic of the language of the Soul.\nTogether as a group\, discoveries of the spirit worlds will be made and shared. Direct Divine Revelation will be opened up to you and you will hold in your heart deep\, revealing and personally profound insights and guidance from those in spirit who guide\, support and love you. You will learn the foundation skills and tools for shamanism and be prepared to step onto the path into your own practice at the summation of these classes. \n\nYou will learn…\n-clearing and cleansing practices\n-discover your power animal and guides\n-learn shamanic cosmology\n-learn the ancient technology of journeying\n-create your shamanic practice tools\n-discover a deeper part of yourself\n-journey outside of time into the sacred \n  \nYou will be mailed the materials before the class begins.  \nMaterials are included in the price of this four week program.  \n\nCome explore in this class and widen your inner horizons\, find a deep and   \nrich resource within and find yourself and your world transformed as a result! \n  \nDuration: This class runs once a week for 4 weeks \nDates: February 23rd\, March nd\, March 9th and March 16th\, 2021 \nTime: 7:00pm to 9:30pm \nLocation: The Center for Personal Evolution Online Zoom Classroom \nCost: $100.00 for the four class series ( which is $25.00 per class)  \nTo Sign up please:\nText/Call: 508-560-6891\nEmail: centerforpersonalevolutio@gmail.com \n  \nPayment is asked for at the beginning of class or prior to the beginning of the first class. Thank you! \nWe accept PayPal at centerforpersonalevolution@gmail.com and money orders and checks. \nChecks made payable to Center for Personal Evolution or Gwendolyn C. Natusch and mail to 6200 Cardinal Drive New Bern\, NC 28560. \nLocation: CPE Zoom Online Classroom https://www.zoom.us/meeting/217154760 \nHow to join the Zoom Classroom: \n  \n\n If you do not have Zoom on your device please download it by going to the Zoom website at:\n\nhttps://www.zoom.us/ \n  \n\n Once you have Zoom downloaded simply type or paste in the \n\nZoom Meeting ID:  930 4979 8626 \n  \n\n You can also paste or type the direct URL link into your search engine address bar:\n\nURL Link to our Zoom Classroom: \nhttps://zoom.us/j/93049798626?pwd=ZDJZK0ZjWWJkNmZMajJQZTVGekt1Zz09 \n  \n\n Sign up for the class and you will receive the password to enter the classroom. \n\n  \nHosted by: The Center for Personal Evolution \nwww.centerforpersonalevolution.com\n508-560-6891
URL:https://centerforpersonalevolution.com/event/2869/
LOCATION:Online Event on Zoom
ORGANIZER;CN="Gwendolyn%20C.%20Natusch":MAILTO:centerforpersonalevolution@gmail.com
END:VEVENT
END:VCALENDAR