BEGIN:VCALENDAR
VERSION:2.0
PRODID:-//Center for Personal Evolution - ECPv5.10.0//NONSGML v1.0//EN
CALSCALE:GREGORIAN
METHOD:PUBLISH
X-WR-CALNAME:Center for Personal Evolution
X-ORIGINAL-URL:https://centerforpersonalevolution.com
X-WR-CALDESC:Events for Center for Personal Evolution
BEGIN:VTIMEZONE
TZID:America/New_York
BEGIN:DAYLIGHT
TZOFFSETFROM:-0500
TZOFFSETTO:-0400
TZNAME:EDT
DTSTART:20200308T070000
END:DAYLIGHT
BEGIN:STANDARD
TZOFFSETFROM:-0400
TZOFFSETTO:-0500
TZNAME:EST
DTSTART:20201101T060000
END:STANDARD
END:VTIMEZONE
BEGIN:VEVENT
DTSTART;TZID=America/New_York:20200111T130000
DTEND;TZID=America/New_York:20200111T170000
DTSTAMP:20260424T134151
CREATED:20191230T023920Z
LAST-MODIFIED:20191230T200607Z
UID:2752-1578747600-1578762000@centerforpersonalevolution.com
SUMMARY:Psychic Saturday
DESCRIPTION:Psychic Saturday \nCome and get a reading from your local psychics! \nJanuary 11th\, 2020\n1:00pm to 5:00pm \nOpen to the Public!\nCome and drop on by for a reading! \nThis event invites you to come and receive messages\, good vibes and healing from intuitives that live locally to you in and around the New Bern area. \nEach month we will have a different combination of readers and offerings. This is an exciting opportunity to receive insights and spiritual information while supporting your local healers and intuitives & work with them face to face. Come and join us! \nWhat you will discover at Psychic Saturday:\nIntuitive Readings\nShamanic Healing & Intuitive Readings\nRune Stone Readings\nAngel Card Readings\nColor Readings\nReiki Energy Work \nIn January you will be able to have a reading with:\nSpencer\nDouglos\nGwendolyn\nApril\nWendy\nEach of these psychics and intuitive readers have special skills and can offer you insight and connection to the Divine. \nCost: Readings & Healing Sessions are\n$20.00 for 20 minutes \nLocation: The Center for Personal Evolution\nat 606 Pinetree Drive New Bern\, NC \nInformation: call\, text or email 508-560-6891\ncenterforpersonalevolution@gmail.com
URL:https://centerforpersonalevolution.com/event/2752/
LOCATION:606 Pinetree Drive new bern nc
ORGANIZER;CN="Gwendolyn%20C.%20Natusch":MAILTO:centerforpersonalevolution@gmail.com
END:VEVENT
END:VCALENDAR