BEGIN:VCALENDAR
VERSION:2.0
PRODID:-//Center for Personal Evolution - ECPv5.10.0//NONSGML v1.0//EN
CALSCALE:GREGORIAN
METHOD:PUBLISH
X-WR-CALNAME:Center for Personal Evolution
X-ORIGINAL-URL:https://centerforpersonalevolution.com
X-WR-CALDESC:Events for Center for Personal Evolution
BEGIN:VTIMEZONE
TZID:America/New_York
BEGIN:DAYLIGHT
TZOFFSETFROM:-0500
TZOFFSETTO:-0400
TZNAME:EDT
DTSTART:20160313T070000
END:DAYLIGHT
BEGIN:STANDARD
TZOFFSETFROM:-0400
TZOFFSETTO:-0500
TZNAME:EST
DTSTART:20161106T060000
END:STANDARD
END:VTIMEZONE
BEGIN:VEVENT
DTSTART;TZID=America/New_York:20160323T070000
DTEND;TZID=America/New_York:20160323T210000
DTSTAMP:20260426T001906
CREATED:20160315T102844Z
LAST-MODIFIED:20160315T113211Z
UID:1519-1458716400-1458766800@centerforpersonalevolution.com
SUMMARY:Shamanic Journey Circle Monthly Gathering
DESCRIPTION:Journey Circle Monthly Gathering \nWednesday March 23\, 2016 \n7pm to9pm \nLocation:  Birdneck Executive Centre 1206 Laskin Road Suite #115 on the first floor Virginia Beach\, VA \nCost: $10.00 \nSign up: email on Meetup or RSVP – You can also call 508-560-6891 or email centerforpersonalevolution@gmail.com \nWhat to Bring: Bring a pillow\, blanket and covering for your eyes (scarf or mask to cover your eyes if you prefer less light while you journey). Also\, drum & rattles welcomed as well. I will have some rattles and drums and eye coverings for participants to use as well. \nThe Evening’s Unfolding:  \nWe will begin by smudging as we come into the building. \nIntroductions and settling in. \nJourneying! We will journey the Michael Harner way by sitting in circle\, drumming and calling up our song. In this way we move inward to that still place within us\, settle our thoughts and prepare to journey. If this is your first time journeying you will journey to meet your power animal. We will share\, if this feels right to you as it is not required\, our journeys in circle. \nThis will be a monthly journey circle and the opportunity to meet more often will depend on the group and attendance. \nI look forward to all that will unfold in journey and in circle. \nWelcome to the community!\nGwendolyn \nThis event is sponsored by The Center for Personal Evolution                                     508-560-6891 /  www.centerforpersonalevolution.com centerforpersonalevolution@gmail.com
URL:https://centerforpersonalevolution.com/event/1519/
LOCATION:Birdneck Executive Centre\, 1206 Laskin Road Suite #115\, Virginia Beach\, 23451\, United States
ORGANIZER;CN="Gwendolyn%20C.%20Natusch":MAILTO:centerforpersonalevolution@gmail.com
END:VEVENT
END:VCALENDAR